BEGIN:VCALENDAR
VERSION:2.0
PRODID:-//Mary Curran Online - ECPv4.5.10//NONSGML v1.0//EN
CALSCALE:GREGORIAN
METHOD:PUBLISH
X-WR-CALNAME:Mary Curran Online
X-ORIGINAL-URL:http://marycurran.ie
X-WR-CALDESC:Events for Mary Curran Online
BEGIN:VEVENT
DTSTART;TZID=UTC+0:20170914T190000
DTEND;TZID=UTC+0:20170914T200000
DTSTAMP:20171104T235444
CREATED:20170831T105750Z
LAST-MODIFIED:20170831T141214Z
UID:442-1505415600-1505419200@marycurran.ie
SUMMARY:Free information evening - Accredited Diploma in Life and Business Coaching
DESCRIPTION:“Free Informational Evening”. \n  \nVenue:          The Lantern Centre\, 15 Synge Street\, Dublin 8. \nDate:             Thursday the 14th September 2017. \nTime:             7pm to 8pm. \n
URL:http://marycurran.ie/event/lantern-centre-15-synge-street-dublin-8/
LOCATION:15 Synge Street\, Dublin\, Dublin\, D08 XV74\, Ireland
CATEGORIES:Free Open Evening
END:VEVENT
END:VCALENDAR